BEGIN:VCALENDAR
VERSION:2.0
PRODID:-//ChamberMaster//Event Calendar 2.0//EN
METHOD:PUBLISH
X-PUBLISHED-TTL:P1H
REFRESH-INTERVAL:P1H
CALSCALE:GREGORIAN
BEGIN:VTIMEZONE
TZID:America/Los_Angeles
BEGIN:DAYLIGHT
RRULE:FREQ=YEARLY;BYMONTH=3;BYDAY=2SU
DTSTART:20070101T000000
TZOFFSETFROM:-0800
TZOFFSETTO:-0700
TZNAME:Pacific Daylight Time
END:DAYLIGHT
BEGIN:STANDARD
RRULE:FREQ=YEARLY;BYMONTH=11;BYDAY=1SU
DTSTART:20070101T000000
TZOFFSETFROM:-0700
TZOFFSETTO:-0800
TZNAME:Pacific Standard Time
END:STANDARD
END:VTIMEZONE
BEGIN:VEVENT
DTSTART;VALUE=DATE:20260528
DTEND;VALUE=DATE:20260529
TRANSP:TRANSPARENT
X-MICROSOFT-CDO-ALLDAYEVENT:TRUE
SUMMARY:StoryWalk Unveiling at Knotty Pine Park
DESCRIPTION:Join the City of Laguna Hills for the unveiling of their new StoryWalk at Knotty Pine Park!  Please reach out to the City of Laguna Hills for more information\, and be sure to check the link for details!Laguna Hills City Events
X-ALT-DESC;FMTTYPE=text/html:<!DOCTYPE html><html><head><title></title></head><body aria-disabled="false"><p>Join the City of Laguna Hills for the unveiling of their new StoryWalk at Knotty Pine Park! &nbsp\;</p><p>Please reach out to the City of Laguna Hills for more information\, and be sure to check the link for details!</p><p><a fr-original-style="" href="https://www.lagunahillsca.gov/538/Events" style="user-select: auto\;">Laguna Hills City Events</a></p></body></html>
LOCATION:25772 Knotty Pine Rd Laguna Hills CA 92653
UID:e.2116.1438497
SEQUENCE:3
DTSTAMP:20260419T151307Z
URL:https://lagunahillschamberofcommerce.growthzoneapp.com/event-calendar/Details/storywalk-unveiling-at-knotty-pine-park-1702614?sourceTypeId=Hub
END:VEVENT
END:VCALENDAR
